BEGIN:VCALENDAR
VERSION:2.0
PRODID:-//Milan History Museum - ECPv5.2.1.1//NONSGML v1.0//EN
CALSCALE:GREGORIAN
METHOD:PUBLISH
X-WR-CALNAME:Milan History Museum
X-ORIGINAL-URL:https://milanhistory.org
X-WR-CALDESC:Events for Milan History Museum
BEGIN:VTIMEZONE
TZID:UTC
BEGIN:STANDARD
TZOFFSETFROM:+0000
TZOFFSETTO:+0000
TZNAME:UTC
DTSTART:20260101T000000
END:STANDARD
END:VTIMEZONE
BEGIN:VEVENT
DTSTART;TZID=UTC:20260430T170000
DTEND;TZID=UTC:20260430T190000
DTSTAMP:20260422T100815
CREATED:20230912T141914Z
LAST-MODIFIED:20260410T182353Z
UID:1302-1777568400-1777575600@milanhistory.org
SUMMARY:Mixology 4 Members
DESCRIPTION:Hear ye! Hear ye! Good members and friends of fine company\, you are warmly summoned to attend the first gathering of the year of Mixology 4 Members! \nAs spring returns and the waterways once more call to mind the bustle of canal days\, we invite you to the Sayles Canal History Galleries on the evening of Thursday\, April 30\, 2026. In honor of the OH-250 theme of transportation\, we turn our attention to the Milan Canal—where\, in seasons past\, boats stirred to life and trade and travel resumed with the thaw. \nStep inside and partake in a draught inspired by those poured in Milan’s taverns during the canal’s grandest years. Stroll the galleries\, swap stories\, and enjoy the fellowship of fellow members as you raise a glass to the waterway that carried goods\, news\, and merriment through our town. \nSo gather your wits and your good cheer—the season is upon us\, and we await you for an evening of history\, hearty company\, and spirited drink! \nThis is a free\, members-only event.\nDate: Thursday\, April 30\, 2026\nTime: 5:00–7:00 PM\nLocation: Sayles Canal History Galleries [26 E. Front St.] \nHave ye a companion not yet counted among our members? Bid them call 419.499.2968 and join our ranks!
URL:https://milanhistory.org/event/october-community-day-glass-class/
LOCATION:Milan Museum\, 10 Edison Drive\, Milan\, OH\, 44846\, United States
ATTACH;FMTTYPE=image/jpeg:https://milanhistory.org/wp-content/uploads/2023/09/Image.jpg
END:VEVENT
BEGIN:VEVENT
DTSTART;TZID=UTC:20260503T130000
DTEND;TZID=UTC:20260503T150000
DTSTAMP:20260422T100815
CREATED:20250207T154023Z
LAST-MODIFIED:20260410T175918Z
UID:1346-1777813200-1777820400@milanhistory.org
SUMMARY:Mosaic Glass Lantern Classes
DESCRIPTION:Celebrate Mom on May 3rd at 1 PM with a Mosaic Solar Lantern Class hosted by Verité Glass! ✨ \nFor just $35\, all materials are included to create your own custom lantern—perfect for adding a warm glow to your patio all summer long. Enjoy a fun\, creative experience while making a special memory together. \nRegistration is required—call 419-499-2968 to reserve your spot today! Seats fill quickly!\n		Where: Milan Museum \nWrap yourself in the magic of the season and create lasting memories at The Milan Museum!
URL:https://milanhistory.org/event/firelands-symphony-orchestra/
LOCATION:Milan Museum\, 10 Edison Drive\, Milan\, OH\, 44846\, United States
ATTACH;FMTTYPE=image/jpeg:https://milanhistory.org/wp-content/uploads/2025/02/Mosaic-Front.jpg
END:VEVENT
BEGIN:VEVENT
DTSTART;TZID=UTC:20260516T120000
DTEND;TZID=UTC:20260516T140000
DTSTAMP:20260422T100815
CREATED:20250225T134754Z
LAST-MODIFIED:20260410T181103Z
UID:1348-1778932800-1778940000@milanhistory.org
SUMMARY:International Museum Day 2026
DESCRIPTION:In celebration of International Museum Day\, The Milan Museum has collaborated with Tea Time Tiffin to present a Beatrix Potter ~ Peter Rabbit themed tea party. \nJoin us on Saturday\, May 16\, 2026 from 12-2 and enjoy a garden-themed tea party with art\, games\, activities\, and more! All activities are free and open to the public! \nTour the museum for free from 10-5pm.. \nDon’t forget to pick-up your free May art kit in the Lockwood\, Smith\, & Co. Gift Shop during open hours!
URL:https://milanhistory.org/event/international-museum-day-2025/
LOCATION:Milan Museum\, 10 Edison Drive\, Milan\, OH\, 44846\, United States
ATTACH;FMTTYPE=image/jpeg:https://milanhistory.org/wp-content/uploads/2025/02/IMD-2026.jpg
END:VEVENT
BEGIN:VEVENT
DTSTART;TZID=UTC:20260926T150000
DTEND;TZID=UTC:20261230T190000
DTSTAMP:20260422T100815
CREATED:20230209T233350Z
LAST-MODIFIED:20260410T175210Z
UID:1244-1790434800-1798657200@milanhistory.org
SUMMARY:BREW-HAHA Fundraiser 2026
DESCRIPTION:Mark your calendars – Saturday\, September 26\, 2026!!!! More details to come!
URL:https://milanhistory.org/event/jack-frost-winter-send-off/
LOCATION:Milan Museum\, 10 Edison Drive\, Milan\, OH\, 44846\, United States
ATTACH;FMTTYPE=image/jpeg:https://milanhistory.org/wp-content/uploads/2023/02/Brew-Haha-front-2026.jpg
END:VEVENT
BEGIN:VEVENT
DTSTART;TZID=UTC:20261025T120000
DTEND;TZID=UTC:20261025T150000
DTSTAMP:20260422T100815
CREATED:20250219T030309Z
LAST-MODIFIED:20260410T174910Z
UID:1349-1792929600-1792940400@milanhistory.org
SUMMARY:Pumpkin Palooza 2026
DESCRIPTION:PUMPKIN PALOOZA 2026! \nCome and join us on Sunday\, October 25\, 2026 from 12-3pm. Enjoy pumpkin decorating\, pumpkin-themed games\, costume contest\, and much more. All activities are FREE!  \nCostume Contest:\nThe costume contest begins at 1pm for all ages!
URL:https://milanhistory.org/event/pumpkin-palooza-2025/
LOCATION:Milan Museum\, 10 Edison Drive\, Milan\, OH\, 44846\, United States
ATTACH;FMTTYPE=image/jpeg:https://milanhistory.org/wp-content/uploads/2023/02/iStock-483201783-scaled.jpg
END:VEVENT
BEGIN:VEVENT
DTSTART;TZID=UTC:20261205T100000
DTEND;TZID=UTC:20261205T160000
DTSTAMP:20260422T100815
CREATED:20230915T151849Z
LAST-MODIFIED:20260410T173417Z
UID:1304-1796464800-1796486400@milanhistory.org
SUMMARY:Gingerbread Workshop 2026!!!
DESCRIPTION:Gingerbread House Workshop ~ A Holiday Tradition! \nBuild sweet memories while kicking off the holiday season at our Gingerbread House Workshop! Gather your loved ones\, roll up your sleeves\, and build your very own holiday masterpiece in the Lockwood & Smith General Store! Register by Dec. 3 to reserve your spot. Call 419.499.2968 today – spaces are limited. \n       Workshop Sessions:10–11:30 AM ~ 12–1:30 PM ~ 2–3:30 PM \nEach $25 Kit includes a full gingerbread house and a holiday gift bag overflowing with seasonal crafts & treats! \nLooking for extra holiday magic? Enjoy these additional FREE activities! \n      * Visit with Santa from 12 – 2. Special treats for you and Santa’s reindeers!\n       * Warm up at the Hot Cocoa Bar from 10 – 4 and enjoy surprise sweets from Mrs. Claus!\n      * Watch LIVE ice carving by Ice Creations from 11 – 3. See holiday sculptures come to life before your eyes! \nWhether you come for the gingerbread\, the cocoa\, the crafts\, or the holiday cheer\, this is a day your family will remember all year long!
URL:https://milanhistory.org/event/great-bowls-of-chili-cook-off/
LOCATION:Milan Museum\, 10 Edison Drive\, Milan\, OH\, 44846\, United States
ATTACH;FMTTYPE=image/jpeg:https://milanhistory.org/wp-content/uploads/2023/09/Gingerbread-2026.jpg
END:VEVENT
END:VCALENDAR